BEGIN:VCALENDAR
VERSION:2.0
PRODID:-//Regis Carlo - Auteur - ECPv6.15.18//NONSGML v1.0//EN
CALSCALE:GREGORIAN
METHOD:PUBLISH
X-ORIGINAL-URL:https://www.regiscarlo.com
X-WR-CALDESC:Évènements pour Regis Carlo - Auteur
REFRESH-INTERVAL;VALUE=DURATION:PT1H
X-Robots-Tag:noindex
X-PUBLISHED-TTL:PT1H
BEGIN:VTIMEZONE
TZID:America/Halifax
BEGIN:DAYLIGHT
TZOFFSETFROM:-0400
TZOFFSETTO:-0300
TZNAME:ADT
DTSTART:20230312T060000
END:DAYLIGHT
BEGIN:STANDARD
TZOFFSETFROM:-0300
TZOFFSETTO:-0400
TZNAME:AST
DTSTART:20231105T050000
END:STANDARD
BEGIN:DAYLIGHT
TZOFFSETFROM:-0400
TZOFFSETTO:-0300
TZNAME:ADT
DTSTART:20240310T060000
END:DAYLIGHT
BEGIN:STANDARD
TZOFFSETFROM:-0300
TZOFFSETTO:-0400
TZNAME:AST
DTSTART:20241103T050000
END:STANDARD
BEGIN:DAYLIGHT
TZOFFSETFROM:-0400
TZOFFSETTO:-0300
TZNAME:ADT
DTSTART:20250309T060000
END:DAYLIGHT
BEGIN:STANDARD
TZOFFSETFROM:-0300
TZOFFSETTO:-0400
TZNAME:AST
DTSTART:20251102T050000
END:STANDARD
END:VTIMEZONE
BEGIN:VEVENT
DTSTART;TZID=America/Halifax:20241129T160000
DTEND;TZID=America/Halifax:20241129T173000
DTSTAMP:20260422T104102
CREATED:20241122T001001Z
LAST-MODIFIED:20241122T001001Z
UID:3971-1732896000-1732901400@www.regiscarlo.com
SUMMARY:Salon du Livre de Montréal
DESCRIPTION:Venez rencontrer Régis Carlo  et faire dédicacer « La sensation émouvante d’être vivant » au kiosque ÉDITO.
URL:https://www.regiscarlo.com/event/salon-du-livre-de-montreal/
LOCATION:Palais des Congrès de Montréal\, 1001 Place Jean-Paul-Riopelle\, Montréal\, Québec\, H2Z 2B3\, Canada
ATTACH;FMTTYPE=image/jpeg:https://www.regiscarlo.com/wp-content/uploads/2024/11/464216993_966410602194134_9055522302491234467_n.jpg
END:VEVENT
END:VCALENDAR